BEGIN:VCALENDAR
VERSION:2.0
PRODID:-//Gajan - ECPv4.9.8//NONSGML v1.0//EN
CALSCALE:GREGORIAN
METHOD:PUBLISH
X-WR-CALNAME:Gajan
X-ORIGINAL-URL:https://www.gajan.fr
X-WR-CALDESC:Évènements pour Gajan
BEGIN:VTIMEZONE
TZID:Europe/Paris
BEGIN:DAYLIGHT
TZOFFSETFROM:+0100
TZOFFSETTO:+0200
TZNAME:CEST
DTSTART:20260329T010000
END:DAYLIGHT
BEGIN:STANDARD
TZOFFSETFROM:+0200
TZOFFSETTO:+0100
TZNAME:CET
DTSTART:20261025T010000
END:STANDARD
END:VTIMEZONE
BEGIN:VEVENT
DTSTART;TZID="Europe/Paris":20260501T080000
DTEND;TZID="Europe/Paris":20260503T170000
DTSTAMP:20260425T131418
CREATED:20260425T100003Z
LAST-MODIFIED:20260425T100035Z
UID:4168-1777622400-1777827600@www.gajan.fr
SUMMARY:FÊTE DU PRINTEMPS
DESCRIPTION:
URL:https://www.gajan.fr/event/fete-du-printemps-5/
LOCATION:Les prés\, GAJAN\, 30730
ATTACH;FMTTYPE=image/png:https://www.gajan.fr/wp-content/uploads/sites/3/2026/04/Programme-provisoire-au-12-03-2026.png
END:VEVENT
END:VCALENDAR